BEGIN:VCALENDAR
PRODID:-//kirchenweb.ch gmbh//veranstaltungsausgabe v2.0//DE
VERSION:2.0
METHOD:PUBLISH
BEGIN:VEVENT
DTSTART:20250829T180000Z
DTEND:20250829T200000Z
LOCATION:Kirche Küsnacht\, Untere Heslibachstrasse 4\, 8700 Küsnacht
TRANSP:OPAQUE
SEQUENCE:0
UID:5762-veranstaltung@ref-erlenbach.ch
DTSTAMP:20250722T161437Z
DESCRIPTION:Adrian Mira und Gregor Müller nehmen uns mit auf eine Reise
  durch Miras Kompositionen. Im Gepäck mit dabei haben sie melodienstarken
  Duo-Jazz\, angereichert mit Klangprisen aus verschiedenen Ecken der Welt.
  Die beiden Musiker spielen sowohl im Duo als auch in anderen Formationen
  zusammen und wünschen «Bon Voyage»!\n\nAdrian Mira wächst im Zürcher
  Oberland auf und absolviert zunächst ein klassisches
  Klarinetten-Studium\, gefolgt von Nachdiplom-Studien an der Jazzschule
  Zürich.\nFasziniert von einem ersten längeren Besuch in New York City
  lebt er darauf für zehn Jahre im Big Apple (2004-2014)\, wo er
  zahlreiche Konzerte spielt und dazu an öffentlichen und privaten Schulen
  in der Bronx\, Manhattan und Brooklyn unterrichtet.\nMit vielen
  Erlebnissen im Gepäck ist Mira zurück in der Schweiz und spielt u.a.
  mit Bendorim\, Swingthing\, dem Zurich Jazz Orchestra und arbeitet an
  seiner eigenen Musik im Jazz/Weltmusik-Genre (Alben «Acoustic Journeys»
  sowie «Spotlight»). Er unterrichtet in Baden\, Zürich und Solothurn.\n
 \nGregor Müller\, aufgewachsen in der Innerschweiz\, studierte
  klassisches Klavier in Zürich und Basel. Seine Leidenschaft für
  Improvisation und Jazz begann im Jugendalter und bestimmt auch heute
  seine musikalische Tätigkeit.\nEr ist als Solist und Kammermusiker in
  verschiedenen Musikstilrichtungen tätig. Zu hören ist er an
  Konzerten/Aufnahmen mit dem Müller-Kramis-Baschnagel Trio\, dem Zurich
  Jazz Orchestra\, der Pius Baschnagel Group\, dem Barbara Balzan Quartett
  (feat. Paolo Fresu)\, in Rodrigo Botter Maios Jazz via Brasil Group sowie
  dem Trio Marchetti-Dufaux-Müller-Art. Gregor Müller unterrichtet dazu
  Klavier an der Kantonsschule Zürich-Nord.\n\nPfr. Herbert Kohler und
  Pfr. Anders Stokholm\nMusik: Adrian Mira (Klarinette\, Saxophon\,
  Kompositionen)\, Gregor Müller (Piano)\nKollekte: » Selbsthilfe Zürich
 \n\nKontakt: Anders Stokholm\n\nWeitere Infos:
  https://www.ref-erlenbach.ch/veranstaltung/5762
SUMMARY:jazz+more: Adrian Mira & Gregor Müller Duo: «Acoustic Journeys»
PRIORITY:5
X-MICROSOFT-CDO-IMPORTANCE:1
CLASS:PUBLIC
END:VEVENT
END:VCALENDAR
