BEGIN:VCALENDAR
PRODID:-//kirchenweb.ch gmbh//veranstaltungsausgabe v2.0//DE
VERSION:2.0
METHOD:PUBLISH
BEGIN:VEVENT
DTSTART:20250909T073000Z
DTEND:20250909T080000Z
LOCATION:Kirchgemeindehaus\, Schulhausstrasse 40\, 8703 Erlenbach
TRANSP:OPAQUE
SEQUENCE:0
UID:5872-veranstaltung@ref-erlenbach.ch
DTSTAMP:20250724T072533Z
DESCRIPTION:Jeden Dienstag\, 09.30 - 10.00 Uhr (ausser Schulferien) 30
  Minuten gemeinsames Singen mit anschliessendem «Käfele» im
  Familienzentrum Flüügepilz. Kinder und Erwachsene singen\, hören und
  erleben zusammen während einer halben Stunde einfache Lieder und
  Versli\, zusammengestellt zu einem für die Lebenswelt der Kinder
  spannenden Thema.\n\nIm «Singe mit de Cliine» sind alle Kinder im Alter
  von 0 bis zum Start des Kindergartens\, zusammen mit ihren Eltern oder
  einer erwachsenen Bezugsperson\, willkommen. Damit schafft die
  Reformierte Kirchgemeinde Erlenbach\, in Zusammenarbeit mit der
  Reformierten Kirchgemeinde Herrliberg und dem Familienzentrum
  Flüügepilz\, ein Angebot für Familien\, die interessiert sind am
  Austausch mit anderen Familien im Dorf.\n\nMöchten Sie in Ihrem Kind auf
  spielerische Art die Freude am Singen wecken? Dann ist das «Singe mit de
  Chliine» genau das Richtige. Es besteht die Möglichkeit\, sich bei
  einem anschliessenden Kaffee im Flüügepilz kennenzulernen und
  auszutauschen.\n\nWann und Wo:\nJeden Dienstagmorgen (ausser in den
  Schulferien)\, 09.30 - 10.00 Uhr\n\nReformiertes Kirchgemeindehaus
  Erlenbach\, Saal\n\nDas Team besteht aus:\nMoni Tiken\, Musikerin
 \nLarissa Schlehlein\, Schauspielerin\, Dozentin PH Musik\nAnnette Frei\,
  Katechetin (Ref. Kirche Erlenbach)\n\nKontakt: Annette Frei\n\nWeitere
  Infos: https://www.ref-erlenbach.ch/veranstaltung/5872
SUMMARY:Singe mit de Chliine
PRIORITY:5
X-MICROSOFT-CDO-IMPORTANCE:1
CLASS:PUBLIC
END:VEVENT
END:VCALENDAR
