BEGIN:VCALENDAR
PRODID:-//kirchenweb.ch gmbh//veranstaltungsausgabe v2.0//DE
VERSION:2.0
METHOD:PUBLISH
BEGIN:VEVENT
DTSTART:20250913T080000Z
DTEND:20250913T090000Z
LOCATION:Katholisches Kirchenzentrum St. Agnes\, Seestrasse 81\, 8703
  Erlenbach
TRANSP:OPAQUE
SEQUENCE:0
UID:5957-veranstaltung@ref-erlenbach.ch
DTSTAMP:20250825T072236Z
DESCRIPTION:Gott hat sich eine Familie ausgesucht\, zu der auch wir
  gehören. Wie hat aber alles begonnen? Im nächsten Fiire hören wir die
  Geschichte zusammen.\n\nAnschliessend erwartet uns ein feines Z’Morgä.
 \n\nVikar Matteo Tuena und das Fiire-Team\n\nKontakt:
  greg.bernet@ref-erlenbach.ch\n\nWeitere Infos:
  https://www.ref-erlenbach.ch/veranstaltung/5957
SUMMARY:Fiire mit de Chliine: Die grosse Familie
PRIORITY:5
X-MICROSOFT-CDO-IMPORTANCE:1
CLASS:PUBLIC
END:VEVENT
END:VCALENDAR
