BEGIN:VCALENDAR
PRODID:-//kirchenweb.ch gmbh//veranstaltungsausgabe v2.0//DE
VERSION:2.0
METHOD:PUBLISH
BEGIN:VEVENT
DTSTART:20250914T080000Z
DTEND:20250914T090000Z
LOCATION:Reformierte Kirche\, Seestrasse 86a\, 8703 Erlenbach
TRANSP:OPAQUE
SEQUENCE:0
UID:6323-veranstaltung@ref-erlenbach.ch
DTSTAMP:20250821T102902Z
DESCRIPTION:Dieses Bild von der kirchlichen Oeku-Stelle stellt einen
  menschlichen Kopf dar\, der ganz aus Früchten und Gemüsen besteht. Er
  ist aber nicht nur lustig anzusehen\, sondern hat auch etwas
  Unheimliches. Einen Schlüssel dazu bildet vielleicht die
  alttestamentliche Geschichte vom Dornbusch\, der König der Bäume werden
  wollte. \n\nPfrn. Marjoline Roth\, Robert Metzger (Orgel\, Klavier)\n\n
 \nKontakt: Pfrn. Marjoline Roth\n\nWeitere Infos:
  https://www.ref-erlenbach.ch/veranstaltung/6323
SUMMARY:Gottesdienst zur Schöpfungszeit
PRIORITY:5
X-MICROSOFT-CDO-IMPORTANCE:1
CLASS:PUBLIC
END:VEVENT
END:VCALENDAR
