BEGIN:VCALENDAR
PRODID:-//kirchenweb.ch gmbh//veranstaltungsausgabe v2.0//DE
VERSION:2.0
METHOD:PUBLISH
BEGIN:VEVENT
DTSTART:20250910T113000Z
DTEND:20250910T153000Z
LOCATION:Kirchgemeindehaus\, \,
TRANSP:OPAQUE
SEQUENCE:0
UID:6364-veranstaltung@ref-erlenbach.ch
DTSTAMP:20250903T112139Z
DESCRIPTION:Treffpunkt: Bahnhof Erlenbach\n\nKursinhalt: Wie ist es\, wenn
  man plötzlich nichts sieht? Wie weiss man\, wie spät es ist? Und wie
  ist es\, wenn man nicht sieht\, was man isst? All diesen Fragen werden
  wir an diesem Nachmittag nachgehen. Einen Zvieri gibt’s nach dem
  Sinnesparcour in der Blinden Kuh.\n\nKursziel: Eintauchen in ein Leben in
  der Dunkelheit\n\nCredits: 3 Punkte\n\nKursleitung: Nicole Flückiger und
  Alexander Heit\n\nTeilnehmende: mind. 8\, max. 20 \n\nKontakt: Nicole
  Flückiger\n\nWeitere Infos:
  https://www.ref-erlenbach.ch/veranstaltung/6364
SUMMARY:Besuch im Restaurant "Blinde Kuh" in Zürich
PRIORITY:5
X-MICROSOFT-CDO-IMPORTANCE:1
CLASS:PUBLIC
END:VEVENT
END:VCALENDAR
