BEGIN:VCALENDAR
PRODID:-//kirchenweb.ch gmbh//veranstaltungsausgabe v2.0//DE
VERSION:2.0
METHOD:PUBLISH
BEGIN:VEVENT
DTSTART:20250907T080000Z
DTEND:20250907T090000Z
LOCATION:Festzelt beim Bahnhof Erlenbach\, \,
TRANSP:OPAQUE
SEQUENCE:0
UID:6397-veranstaltung@ref-erlenbach.ch
DTSTAMP:20250902T145738Z
DESCRIPTION:Zur Chilbi gehören Bahnen und Stände\, Magenbrot\, Festzelte
  und Musik. Und am Sonntagmorgen gehört auch ein Gottesdienst dazu. Und
  um das alles zusammenzubringen\, feiern wir den Gottesdienst ökumenisch
  im grossen Festzelt beim Bahnhof\, zusammen mit der Harmonie Erlenbach.
  Wir freuen uns auf viel Besuch in Chilbi-Stimmung! Im Anschluss
  offerieren wir Ihnen Kaffee!\n\nWort: ref. Pfarrer Anders Stokholm und
  Vikar Matteo Tuena\, Musik: Harmonie Erlenbach.\n\n\nKontakt:
  greg.bernet@ref-erlenbach.ch\n\nWeitere Infos:
  https://www.ref-erlenbach.ch/veranstaltung/6397
SUMMARY:Ökumenischer Chilbigottesdienst mit Harmonie Erlenbach
PRIORITY:5
X-MICROSOFT-CDO-IMPORTANCE:1
CLASS:PUBLIC
END:VEVENT
END:VCALENDAR
