BEGIN:VCALENDAR
PRODID:-//kirchenweb.ch gmbh//veranstaltungsausgabe v2.0//DE
VERSION:2.0
METHOD:PUBLISH
BEGIN:VEVENT
DTSTART:20250903T121500Z
DTEND:20250903T134500Z
LOCATION:Kirchgemeindehaus\, Schulhausstrasse 40\, 8703 Erlenbach
TRANSP:OPAQUE
SEQUENCE:0
UID:6432-veranstaltung@ref-erlenbach.ch
DTSTAMP:20250313T100647Z
DESCRIPTION:Träume\nIm Alten Testament haben Träume eine grosse
  Bedeutung - wir lernen die Träume von Jakob und Josef im Alten Testament
  kennen und wie ihre Träume ihr Leben begleitet haben.\n\nKontakt: Roger
  Vogt\n\nWeitere Infos: https://www.ref-erlenbach.ch/veranstaltung/6432
SUMMARY:Club 5
PRIORITY:5
X-MICROSOFT-CDO-IMPORTANCE:1
CLASS:PUBLIC
END:VEVENT
END:VCALENDAR
