BEGIN:VCALENDAR
PRODID:-//kirchenweb.ch gmbh//veranstaltungsausgabe v2.0//DE
VERSION:2.0
METHOD:PUBLISH
BEGIN:VEVENT
DTSTART:20260506T123000Z
DTEND:20260506T143000Z
LOCATION:Kirchgemeindehaus\, Schulhausstrasse 40\, 8703 Erlenbach
TRANSP:OPAQUE
SEQUENCE:0
UID:6520-veranstaltung@ref-erlenbach.ch
DTSTAMP:20260327T073209Z
DESCRIPTION:Silvia Trüssel nimmt Sie mit auf eine Bilderreise nach
  Namibia. Sie erzählt von Menschen und Tieren\, von Fülle und Kargheit\,
  von heissen Tagen und weitem Horizont. Die Pfarrerin und Fotografin reist
  seit bald 17 Jahren mit offenen Sinnen\, Abenteuerlust und viel
  Leidenschaft durch das Land im südlichen Afrika und bringt Ihnen
  Bilder\, Erlebnisse und Anekdoten mit. Im Anschluss an den Vortrag
  servieren wir Kaffee und ein Dessert. \n\nMittwoch\, 6. Mai\, 14.30 Uhr\,
  Kirchgemeindehaus Erlenbach\, Schulhausstrasse 40. Wir bitten um
  Anmeldung bei Regina Ehrbar bis zwei Tage vor dem Anlass:
  https://regina.ehrbar@ref-erlenbach.ch oder 044 911 06 80. \n\n\n
 \nKontakt: Regina Ehrbar\n\nWeitere Infos:
  https://www.ref-erlenbach.ch/veranstaltung/6520
SUMMARY:Gemeindenachmittag
PRIORITY:5
X-MICROSOFT-CDO-IMPORTANCE:1
CLASS:PUBLIC
END:VEVENT
END:VCALENDAR
