BEGIN:VCALENDAR
PRODID:-//kirchenweb.ch gmbh//veranstaltungsausgabe v2.0//DE
VERSION:2.0
METHOD:PUBLISH
BEGIN:VEVENT
DTSTART:20260520T101500Z
DTEND:20260520T120000Z
LOCATION:Kirchgemeindehaus\, Schulhausstrasse 40\, 8703 Erlenbach
TRANSP:OPAQUE
SEQUENCE:0
UID:6529-veranstaltung@ref-erlenbach.ch
DTSTAMP:20260327T074322Z
DESCRIPTION:• Zusammen essen\n• Die Gemeinschaft geniessen\n• Neue
  Freundschaften schliessen\n\nIm Kirchgemeindehaus\n\nAnmeldungen bitte
  bis 2 Tage vorher an: Tel. 044 910 16 61\nUnkostenbeitrag: CHF 15.-\n
 \n17.06. / 8.07. / 19.08. / 16.09. / 21.10. / 18.11. / 16.12\n\nKontakt:
  Regina Ehrbar\n\nWeitere Infos:
  https://www.ref-erlenbach.ch/veranstaltung/6529
SUMMARY:Mittagessen
PRIORITY:5
X-MICROSOFT-CDO-IMPORTANCE:1
CLASS:PUBLIC
END:VEVENT
END:VCALENDAR
