BEGIN:VCALENDAR
PRODID:-//kirchenweb.ch gmbh//veranstaltungsausgabe v2.0//DE
VERSION:2.0
METHOD:PUBLISH
BEGIN:VEVENT
DTSTART:20250912T153000Z
DTEND:20250912T183000Z
LOCATION:Reformierte Kirche\, Seestrasse 86a\, 8703 Erlenbach
TRANSP:OPAQUE
SEQUENCE:0
UID:6798-veranstaltung@ref-erlenbach.ch
DTSTAMP:20250821T095625Z
DESCRIPTION:Treffpunkt: Reformierte Kirche Erlenbach oder Reformierte
  Kirche Tal in\nHerrliberg\n\nKursinhalt: Erleben eines
  Jugendgottesdienstes\n\nKursziel: Die Jugendlichen erleben einen
  Jugendgottesdienst. Im JukiJahr sind zwei Jugendgottesdienste und der
  Abschlussgottesdienst am Muttertag 2026 Pflicht.\n\nCredits: 1 Punkt pro
  Abend. Der Kinofilm gibt einen extra Punkt.\n\nKursleitung: Claudia
  Steinemann\, Anders Stokholm\, Alexander Heit\, Nicole Flückiger und
  Roger S. Vogt \n\n\nKontakt: Roger Vogt\n\nWeitere Infos:
  https://www.ref-erlenbach.ch/veranstaltung/6798
SUMMARY:Jugendgottesdienst Erlenbach/Herrliberg
PRIORITY:5
X-MICROSOFT-CDO-IMPORTANCE:1
CLASS:PUBLIC
END:VEVENT
END:VCALENDAR
