BEGIN:VCALENDAR
PRODID:-//kirchenweb.ch gmbh//veranstaltungsausgabe v2.0//DE
VERSION:2.0
METHOD:PUBLISH
BEGIN:VEVENT
DTSTART:20250904T150000Z
DTEND:20250904T160000Z
LOCATION:Reformierte Kirche\, Seestrasse 86a\, 8703 Erlenbach
TRANSP:OPAQUE
SEQUENCE:0
UID:7011-veranstaltung@ref-erlenbach.ch
DTSTAMP:20250819T115053Z
DESCRIPTION:Nach dem grossen Erfolg des letztjährigen
  Skulpturen-Festivals realisiert Kuratorin Barbora Gerny ein weiteres
  inspirierendes Kunsterlebnis im öffentlichen Raum der Gemeinden
  Küsnacht und Erlenbach.\n\nZum ersten Mal ist auch die Reformierte
  Kirchgemeinde Erlenbach Teil des Festivals\, und wir freuen uns\, zwei
  eindrucksvolle Werke renommierter Künstlerinnen zu präsentieren: Vor
  der Kirche » Sibylle Pasches monumentale » Skulptur Nascita und im
  Kircheninnern » Veronika Dierauers » Installation COVER.\n\nBeide Werke
  setzen sich mit den Themen Geburt\, Leben\, Wandel und Vergänglichkeit
  auseinander – und schaffen eine Verbindung zwischen Kunst\,
  Spiritualität und dem Kreislauf des Lebens. Sie ergänzen sich nicht nur
  formal\, sondern auch inhaltlich auf beeindruckende Weise. Und sie laden
  ein zur persönlichen Auseinandersetzung mit den letzten Dingen –
  mitten im Alltag\, mitten im Dorf\, mitten im Leben.\n\nDie Vernissag der
  beiden ausgestelllten Skulpturen findet am Donnerstag\, 4. September um
  17.00 in der reformierten Kirche statt. \n\nProgramm:\n\n- Begrüssung
  durch Kuratorin Barbora Gerny\n- Einführende Worte zu beiden Skulpturen
  von Pfarrer Anders Stokholm\n- Ab 17.30 Uhr Aufbruch zur Vernissage im
  Rösslipark\n- Um 18 Uhr Vernissage und Apéro in der Galerie
  Go-Green-Art  (Seestrasse 2) und Rösslipark (Seestrasse 4)\n\n\nKontakt:
  Anders Stokholm\n\nWeitere Infos:
  https://www.ref-erlenbach.ch/veranstaltung/7011
SUMMARY:Vernissage Line of Art
PRIORITY:5
X-MICROSOFT-CDO-IMPORTANCE:1
CLASS:PUBLIC
END:VEVENT
END:VCALENDAR
