BEGIN:VCALENDAR
PRODID:-//kirchenweb.ch gmbh//veranstaltungsausgabe v2.0//DE
VERSION:2.0
METHOD:PUBLISH
BEGIN:VEVENT
DTSTART:20260526T100000Z
DTEND:20260526T113000Z
LOCATION:Kirchgemeindehaus\, Schulhausstrasse 40\, 8703 Erlenbach
TRANSP:OPAQUE
SEQUENCE:0
UID:7091-veranstaltung@ref-erlenbach.ch
DTSTAMP:20250820T162845Z
DESCRIPTION:Kontakt: \nAnnette Frei\n\nWeitere Infos:
  https://www.ref-erlenbach.ch/veranstaltung/7091
SUMMARY:2. Klasse-Unti Dienstag
PRIORITY:5
X-MICROSOFT-CDO-IMPORTANCE:1
CLASS:PUBLIC
END:VEVENT
END:VCALENDAR
