BEGIN:VCALENDAR
PRODID:-//kirchenweb.ch gmbh//veranstaltungsausgabe v2.0//DE
VERSION:2.0
METHOD:PUBLISH
BEGIN:VEVENT
DTSTART:20250911T100000Z
DTEND:20250911T113000Z
LOCATION:Kirchgemeindehaus\, Schulhausstrasse 40\, 8703 Erlenbach
TRANSP:OPAQUE
SEQUENCE:0
UID:7101-veranstaltung@ref-erlenbach.ch
DTSTAMP:20250820T160902Z
DESCRIPTION:Kontakt: Annette Frei\n\nWeitere Infos:
  https://www.ref-erlenbach.ch/veranstaltung/7101
SUMMARY:3. Klasse Unti Donnerstag
PRIORITY:5
X-MICROSOFT-CDO-IMPORTANCE:1
CLASS:PUBLIC
END:VEVENT
END:VCALENDAR
