BEGIN:VCALENDAR
PRODID:-//kirchenweb.ch gmbh//veranstaltungsausgabe v2.0//DE
VERSION:2.0
METHOD:PUBLISH
BEGIN:VEVENT
DTSTART:20250910T160000Z
DTEND:20250910T173000Z
LOCATION:Kirchgemeindehaus\, Schulhausstrasse 40\, 8703 Erlenbach
TRANSP:OPAQUE
SEQUENCE:0
UID:7138-veranstaltung@ref-erlenbach.ch
DTSTAMP:20250822T073519Z
DESCRIPTION:Sie haben ein Kleidungsstück\, das kaputt\, langweilig oder
  aus der Mode ist? Dann kommen Sie zu den Upcyclingabenden und erfahren
  Sie\, wie Sie es zu Ihrem neuen Unikat machen können!\n\nWas Sie
  erwartet:\n• Offener Treff mit Fokus auf Reparatur\, Upcycling &
  Verschönerung\n• Unterstützung & Inspiration durch Ute Veya\,
  erfahren in Nähen\, Sticken\, Stricken & Häkeln\n• Kreative Techniken
  aus Japan & Korea\n• Raum zum Ausprobieren\, Austauschen & Selbermachen
 \n\nUte Veya wird vor Ort sein\, um zu unterstützen\, anzuleiten\, ihr
  Wissen weiterzugeben – und Menschen zu ermutigen\, Kleidungsstücke
  nicht gleich wegzuwerfen\, wenn etwas kaputt ist.\n\nDie Treffen finden
  jeweils von 18.00 – 19.30 Uhr im Foyer des Kirchgemeindehauses\,
  Schulhausstrasse 40\, an folgenden Daten statt: 10. September\, 29.
  Oktober\, 19. November\, 10. Dezember (Teilnahme gratis)\n\nKontakt:
  simone.okoye@ref-erlenbach.ch\n\nWeitere Infos:
  https://www.ref-erlenbach.ch/veranstaltung/7138
SUMMARY:Aus Alt mach Wow!
PRIORITY:5
X-MICROSOFT-CDO-IMPORTANCE:1
CLASS:PUBLIC
END:VEVENT
END:VCALENDAR
