BEGIN:VCALENDAR
PRODID:-//kirchenweb.ch gmbh//veranstaltungsausgabe v2.0//DE
VERSION:2.0
METHOD:PUBLISH
BEGIN:VEVENT
DTSTART:20250912T080000Z
DTEND:20250912T090000Z
LOCATION:Kirchgemeindehaus\, Schulhausstrasse 40\, 8703 Erlenbach
TRANSP:OPAQUE
SEQUENCE:0
UID:7201-veranstaltung@ref-erlenbach.ch
DTSTAMP:20250826T132610Z
DESCRIPTION:Möchten Sie nachhaltig gärtnern und benötigen Starthilfe?
  Ob auf dem Balkon oder im eigenen Garten\, mit den praktischen Tipps
  unserer Gartenexpertin werden Sie zum Gartenprofi. Ab September gibt es
  eine Informationsreihe mit kostenloser Beratung für interessierte
  Hobbygärtner:innen\n\nProgramm: \n\n12. September – Fit für den
  Winter\nJetzt beginnt der schöne Wintergarten! Kleine Schritte im
  September – für einen Garten\, der auch im Winter begeistert.\n\nZu
  Katalin Patonay (Freiwillige\, die diese Informationsreihe und Beratung
  anbietet): \nAls Umwelt-Expertin hat Katalin Patonay in den letzten zehn
  Jahren wirkungsvolle Nachhaltigkeitsprojekte für gemeinnützige
  Organisationen erfolgreich umgesetzt. Sie hat ein breites Wissen in den
  Bereichen Abfallmanagement\, Kompostierung\, Freiwilligenmanagement und
  nachhaltige Gartenaktivitäten. Zudem hat sie Erfahrung in der Konzeption
  und Durchführung von Schulungsprogrammen im Bereich nachhaltiges urbanes
  Gärtnern für verschiedene Londoner Gemeindegärten mit Fokus auf
  Ressourcenschonung und Abfallvermeidung.\n\nKontakt:
  simone.okoye@ref-erlenbach.ch\n\nWeitere Infos:
  https://www.ref-erlenbach.ch/veranstaltung/7201
SUMMARY:Inforeihe: Nachhaltiges Gärtnern
PRIORITY:5
X-MICROSOFT-CDO-IMPORTANCE:1
CLASS:PUBLIC
END:VEVENT
END:VCALENDAR
