BEGIN:VCALENDAR
PRODID:-//kirchenweb.ch gmbh//veranstaltungsausgabe v2.0//DE
VERSION:2.0
METHOD:PUBLISH
BEGIN:VEVENT
DTSTART:20250909T063000Z
DTEND:20250909T150000Z
LOCATION:Kirchgemeindehaus\, Schulhausstrasse 40\, 8703 Erlenbach
TRANSP:OPAQUE
SEQUENCE:0
UID:7216-veranstaltung@ref-erlenbach.ch
DTSTAMP:20250901T055651Z
DESCRIPTION:Mit dem Begegnungszentrum Kafi «Träff» möchte die
  reformierte Kirchgemeinde Erlenbach zu einem lebendigen Dorfleben
  beitragen und zum Austausch einladen. Eine Büchertauschecke\,
  tagesaktuelle Zeitungen und eine Spielbox sind frei verfügbar. Im Sommer
  ist nicht nur das Foyer\, sondern auch das gemütliche\, lauschige
  Gartencafé geöffnet.\n\nbedientes Kafi Träff:\nDienstag\, 08.30 -
  11.30 Uhr/ 14.00 - 17.00 Uhr\nMittwoch\, 08.30 - 11.30 Uhr / 14.00 -
  17.00 Uhr\nDonnerstag\, 08.30 - 11.30 Uhr\nFreitag\, 08.30 - 11.30 Uhr\n
 \nKontakt: Cornelia Gisler\n\nWeitere Infos:
  https://www.ref-erlenbach.ch/veranstaltung/7216
SUMMARY:Kafi Träff bedient
PRIORITY:5
X-MICROSOFT-CDO-IMPORTANCE:1
CLASS:PUBLIC
END:VEVENT
END:VCALENDAR
