BEGIN:VCALENDAR
PRODID:-//kirchenweb.ch gmbh//veranstaltungsausgabe v2.0//DE
VERSION:2.0
METHOD:PUBLISH
BEGIN:VEVENT
DTSTART:20250918T160000Z
DTEND:20250918T190000Z
LOCATION:Kirchgemeinde Erlenbach\, Schulhausstrasse 40\, 8703 Erlenbach
TRANSP:OPAQUE
SEQUENCE:0
UID:7235-veranstaltung@ref-erlenbach.ch
DTSTAMP:20250903T080158Z
DESCRIPTION:Kontakt: René Schwarzenbach\n\nWeitere Infos:
  https://www.ref-erlenbach.ch/veranstaltung/7235
SUMMARY:Sitzung Pfarrwahlkommission
PRIORITY:5
X-MICROSOFT-CDO-IMPORTANCE:1
CLASS:PUBLIC
END:VEVENT
END:VCALENDAR
