BEGIN:VCALENDAR
PRODID:-//kirchenweb.ch gmbh//veranstaltungsausgabe v2.0//DE
VERSION:2.0
METHOD:PUBLISH
BEGIN:VEVENT
DTSTART:20260503T080000Z
DTEND:20260503T090000Z
LOCATION:Reformierte Kirche\, Seestrasse 86a\, 8703 Erlenbach
TRANSP:OPAQUE
SEQUENCE:0
UID:7585-veranstaltung@ref-erlenbach.ch
DTSTAMP:20260327T072815Z
DESCRIPTION:Themen-Gottesdienst zur Geschichte von Jona\n\nEin Fisch als
  Werkzeug Gottes. Sonntag\, 3. Mai\, Gottesdienst um 10h\, anschliessend
  Kirchenkaffee. \nMusik: Robert Metzger\, \nWort: Pfr. Anders Stokholm.\n
 \n\nKontakt: Anders Stokholm\n\nWeitere Infos:
  https://www.ref-erlenbach.ch/veranstaltung/7585
SUMMARY:Themen-Gottesdienst mit Kirchenkaffee
PRIORITY:5
X-MICROSOFT-CDO-IMPORTANCE:1
CLASS:PUBLIC
END:VEVENT
END:VCALENDAR
