BEGIN:VCALENDAR
PRODID:-//kirchenweb.ch gmbh//veranstaltungsausgabe v2.0//DE
VERSION:2.0
METHOD:PUBLISH
BEGIN:VEVENT
DTSTART:20260514T083000Z
DTEND:20260514T093000Z
LOCATION:Reformierte Kirche Tal Herrliberg\, Kirchenrank 1\, 8704
  Herrliberg
TRANSP:OPAQUE
SEQUENCE:0
UID:7586-veranstaltung@ref-erlenbach.ch
DTSTAMP:20260414T090401Z
DESCRIPTION:Gemeinsam feiern die reformierten Kirchgemeinden Erlenbach und
  Herrliberg den Gottesdienst zu Auffahrt. Dass Gott sich mit der Auffahrt
  Christi aus der Welt verabschiedet hat\, ist der erste Eindruck nach der
  Lektüre der klassischen Texte aus dem Neuen Testament dazu.\n\nStimmt
  das? Ist die Welt wirklich gottverlassen? Dieser Frage werden wir im
  Gottesdienst \nnachgehen\nWort: Pfr. Anders Stokholm und Pfr. Alexander
  Heit\, \nMusik: Alberto Gaspardo.\n\nKontakt:
  greg.bernet@ref-erlenbach.ch\n\nWeitere Infos:
  https://www.ref-erlenbach.ch/veranstaltung/7586
SUMMARY:Regionaler Gottesdienst an Auffahrt der Gemeinden Erlenbach und
  Herrliberg
PRIORITY:5
X-MICROSOFT-CDO-IMPORTANCE:1
CLASS:PUBLIC
END:VEVENT
END:VCALENDAR
