BEGIN:VCALENDAR
PRODID:-//kirchenweb.ch gmbh//veranstaltungsausgabe v2.0//DE
VERSION:2.0
METHOD:PUBLISH
BEGIN:VEVENT
DTSTART:20260913T153000Z
DTEND:20260913T163000Z
LOCATION:Reformierte Kirche Tal Herrliberg\, Kirchenrank 1\, 8704
  Herrliberg
TRANSP:OPAQUE
SEQUENCE:0
UID:7609-veranstaltung@ref-erlenbach.ch
DTSTAMP:20251213T132600Z
DESCRIPTION:Kontakt: greg.bernet@ref-erlenbach.ch\n\nWeitere Infos:
  https://www.ref-erlenbach.ch/veranstaltung/7609
SUMMARY:Art & Act
PRIORITY:5
X-MICROSOFT-CDO-IMPORTANCE:1
CLASS:PUBLIC
END:VEVENT
END:VCALENDAR
