BEGIN:VCALENDAR
PRODID:-//kirchenweb.ch gmbh//veranstaltungsausgabe v2.0//DE
VERSION:2.0
METHOD:PUBLISH
BEGIN:VEVENT
DTSTART:20260919T080000Z
DTEND:20260919T090000Z
LOCATION:Martinstiftung Erlenbach / Herbstfest Festzelt\, \,
TRANSP:OPAQUE
SEQUENCE:0
UID:7610-veranstaltung@ref-erlenbach.ch
DTSTAMP:20260317T152636Z
DESCRIPTION:Kontakt: Marjoline Roth\n\nWeitere Infos:
  https://www.ref-erlenbach.ch/veranstaltung/7610
SUMMARY:Bettags-Gottesdienst
PRIORITY:5
X-MICROSOFT-CDO-IMPORTANCE:1
CLASS:PUBLIC
END:VEVENT
END:VCALENDAR
