BEGIN:VCALENDAR
PRODID:-//kirchenweb.ch gmbh//veranstaltungsausgabe v2.0//DE
VERSION:2.0
METHOD:PUBLISH
BEGIN:VEVENT
DTSTART:20260920T150000Z
DTEND:20260920T160000Z
LOCATION:Reformierte Kirche\, Seestrasse 86a\, 8703 Erlenbach
TRANSP:OPAQUE
SEQUENCE:0
UID:7611-veranstaltung@ref-erlenbach.ch
DTSTAMP:20260317T152804Z
DESCRIPTION:Kontakt: greg.bernet@ref-erlenbach.ch\n\nWeitere Infos:
  https://www.ref-erlenbach.ch/veranstaltung/7611
SUMMARY:Bettagskonzert
PRIORITY:5
X-MICROSOFT-CDO-IMPORTANCE:1
CLASS:PUBLIC
END:VEVENT
END:VCALENDAR
