BEGIN:VCALENDAR
PRODID:-//kirchenweb.ch gmbh//veranstaltungsausgabe v2.0//DE
VERSION:2.0
METHOD:PUBLISH
BEGIN:VEVENT
DTSTART:20261115T163000Z
DTEND:20261115T173000Z
LOCATION:Reformierte Kirche\, Seestrasse 86a\, 8703 Erlenbach
TRANSP:OPAQUE
SEQUENCE:0
UID:7618-veranstaltung@ref-erlenbach.ch
DTSTAMP:20260324T104021Z
DESCRIPTION:Kontakt: Anders Stokholm\n\nWeitere Infos:
  https://www.ref-erlenbach.ch/veranstaltung/7618
SUMMARY:Art & Act
PRIORITY:5
X-MICROSOFT-CDO-IMPORTANCE:1
CLASS:PUBLIC
END:VEVENT
END:VCALENDAR
