BEGIN:VCALENDAR
PRODID:-//kirchenweb.ch gmbh//veranstaltungsausgabe v2.0//DE
VERSION:2.0
METHOD:PUBLISH
BEGIN:VEVENT
DTSTART:20260511T160000Z
DTEND:20260511T170000Z
LOCATION:Kirchgemeindehaus\, Schulhausstrasse 40\, 8703 Erlenbach
TRANSP:OPAQUE
SEQUENCE:0
UID:7845-veranstaltung@ref-erlenbach.ch
DTSTAMP:20260327T073502Z
DESCRIPTION:Die Vorträge können einzeln besucht werden (unverbindlich
  vorbeikommen). Eine Anmeldung ist nicht erforderlich. Erhalten Sie
  spannende Inputs vor den jeweils aktuellen Arbeiten im Garten. So haben
  Sie genug Zeit\, sich vorzubereiten und das benötigte Material zu
  besorgen. Ab 18 Uhr gibt es eine kurze Einführung\, der offizielle Teil
  beginnt um 18.20 Uhr! \n\nProgramm 2026: \n\n11. Mai - Biodiversität im
  Ziergarten – natürliche Balance statt Chemie\nWas sind
  Pflanzengesellschaften? Und was ist natürliche Schädlingsregulation?
  Einfache Wege\, um Lebensräume für Nützlinge im Garten zu schaffen.\n
 \n25. Mai – Nachhaltige Gartenpflege – was tun und was besser lassen?
 \nEin praxisnaher Überblick darüber\, wie weniger Eingriffe\, richtiges
  Timing und Zurückhaltung zu gesünderen und klimafreundlicheren Gärten
  führen.\n\n8. Juni - Fit für den Sommer – hitzeresistente und
  wassersparende Gärten\nPerfekte Vorbereitung auf Hitze und Trockenheit
  durch Mulch\, Beschattung und bodenschonende Maßnahmen.\n\n\nZu Katalin
  Patonay (Freiwillige\, die diese Informationsreihe und Beratung
  anbietet): \nAls Umwelt-Expertin hat Katalin Patonay in den letzten zehn
  Jahren wirkungsvolle Nachhaltigkeitsprojekte für gemeinnützige
  Organisationen erfolgreich umgesetzt. Sie hat ein breites Wissen in den
  Bereichen Abfallmanagement\, Kompostierung\, Freiwilligenmanagement und
  nachhaltige Gartenaktivitäten. Zudem hat sie Erfahrung in der Konzeption
  und Durchführung von Schulungsprogrammen im Bereich nachhaltiges urbanes
  Gärtnern für verschiedene Londoner Gemeindegärten mit Fokus auf
  Ressourcenschonung und Abfallvermeidung.\n\n\n\nKontakt:
  simone.okoye@ref-erlenbach.ch\n\nWeitere Infos:
  https://www.ref-erlenbach.ch/veranstaltung/7845
SUMMARY:Nachhaltig Gärtnern
PRIORITY:5
X-MICROSOFT-CDO-IMPORTANCE:1
CLASS:PUBLIC
END:VEVENT
END:VCALENDAR
