BEGIN:VCALENDAR
PRODID:-//kirchenweb.ch gmbh//veranstaltungsausgabe v2.0//DE
VERSION:2.0
METHOD:PUBLISH
BEGIN:VEVENT
DTSTART:20260915T153000Z
DTEND:20260915T170000Z
LOCATION:Ref. Kirchgemeinde Erlenbach\, \,
TRANSP:OPAQUE
SEQUENCE:0
UID:7962-veranstaltung@ref-erlenbach.ch
DTSTAMP:20260407T122736Z
DESCRIPTION:Kontakt: nicole.flueckiger@ref-erlenbach.ch\n\nWeitere Infos:
  https://www.ref-erlenbach.ch/veranstaltung/7962
SUMMARY:Konfunterricht
PRIORITY:5
X-MICROSOFT-CDO-IMPORTANCE:1
CLASS:PUBLIC
END:VEVENT
END:VCALENDAR
